BEGIN:VCALENDAR
VERSION:2.0
PRODID:-//ChamberMaster//Event Calendar 2.0//EN
METHOD:PUBLISH
X-PUBLISHED-TTL:P3D
REFRESH-INTERVAL:P3D
CALSCALE:GREGORIAN
BEGIN:VEVENT
DTSTART:20100604T210000Z
DTEND:20100604T220000Z
X-MICROSOFT-CDO-ALLDAYEVENT:FALSE
SUMMARY:Ribbon Cutting for Knezel & Tanglz
DESCRIPTION:Knezel Photography and Tanglz Hair Studio
X-ALT-DESC;FMTTYPE=text/html:<div>Knezel Photography and Tanglz Hair Studio</div>
LOCATION:7450 W. 120th AveBroomfield\, CO 80020
UID:e.641.1047
SEQUENCE:3
DTSTAMP:20260421T011848Z
URL:http://business.broomfieldchamber.com/events/details/ribbon-cutting-for-knezel-tanglz-06-04-2010-1047
END:VEVENT

END:VCALENDAR
