BEGIN:VCALENDAR
VERSION:2.0
PRODID:-//ChamberMaster//Event Calendar 2.0//EN
METHOD:PUBLISH
X-PUBLISHED-TTL:P3D
REFRESH-INTERVAL:P3D
CALSCALE:GREGORIAN
BEGIN:VEVENT
DTSTART:20111205T161500Z
DTEND:20111205T171500Z
X-MICROSOFT-CDO-ALLDAYEVENT:FALSE
SUMMARY:Ribbon Cutting for Legal Shield
DESCRIPTION:LegalShield gives you the ability to talk to an attorney on any matter without worrying about high hourly costs. For one flat monthly fee\, you can access legal advice\, no matter how traumatic or trivial the issue.\n\n \n\nI provide legal & identity theft protection  for you family\, business and employees.
X-ALT-DESC;FMTTYPE=text/html:<span style="font-size: 14px"><span style="font-family: verdana">LegalShield gives you the ability to talk to an attorney on any matter without worrying about high hourly costs. For one flat monthly fee\, you can access legal advice\, no matter how traumatic or trivial the issue.<br />\n&nbsp\;<br />\nI provide legal &amp\; identity theft protection&nbsp\; for you family\, business and employees. </span></span><br />\n
LOCATION:Broomfield Chamber conference room 2095 W. 6th Ave. Broomfield\, CO 80020
UID:e.641.3097
SEQUENCE:3
DTSTAMP:20260419T223246Z
URL:http://business.broomfieldchamber.com/events/details/ribbon-cutting-for-legal-shield-12-05-2011-3097
END:VEVENT

END:VCALENDAR
