BEGIN:VCALENDAR
VERSION:2.0
PRODID:-//ChamberMaster//Event Calendar 2.0//EN
METHOD:PUBLISH
X-PUBLISHED-TTL:P3D
REFRESH-INTERVAL:P3D
CALSCALE:GREGORIAN
BEGIN:VEVENT
DTSTART:20120423T220000Z
DTEND:20120423T230000Z
X-MICROSOFT-CDO-ALLDAYEVENT:FALSE
SUMMARY:Ribbon Cutting for Lincoln Mortgage
DESCRIPTION:
X-ALT-DESC;FMTTYPE=text/html:
LOCATION:11854 Bradburn Blvd Westminster\, CO 80031
UID:e.641.3486
SEQUENCE:3
DTSTAMP:20260419T162552Z
URL:http://business.broomfieldchamber.com/events/details/ribbon-cutting-for-lincoln-mortgage-04-23-2012-3486
END:VEVENT

END:VCALENDAR
