BEGIN:VCALENDAR
VERSION:2.0
PRODID:-//ChamberMaster//Event Calendar 2.0//EN
METHOD:PUBLISH
X-PUBLISHED-TTL:P3D
REFRESH-INTERVAL:P3D
CALSCALE:GREGORIAN
BEGIN:VEVENT
DTSTART:20110408T200000Z
DTEND:20110408T210000Z
X-MICROSOFT-CDO-ALLDAYEVENT:FALSE
SUMMARY:Ribbon Cutting for Little Britches
DESCRIPTION:Join Little Britches Children's and Maternity Resale Store\n\nas we celebrate their Grand Opening with a Ribbon Cutting!\n\n\n\nLittle Britches LLC Children's and Maternity Resale and Specialty Shop just opened in Westminster and is a local and family owned business striving to help the community in the ultimate recycling of children's and maternity clothes\, toys\, books\, and equipment. Customers can bring their items in to sell and choose cash on the spot or 20% more for store credit. You can find new products as well as gently used items. Store hours are Mon. - Sat. 9am-7pm and Sun. 10am-6pm\, located at 11187 Sheridan Blvd in Westminster. Call us at (303)404-0555 or email littlebritchesllc@hotmail.com.
X-ALT-DESC;FMTTYPE=text/html:<span style="font-family: arial"><span style="font-size: 16px"><strong>Join Little Britches Children&#39\;s and Maternity Resale Store<br />\nas we celebrate their Grand Opening with a&nbsp\;Ribbon Cutting!</strong></span></span><br />\n<br />\n<span style="font-size: 14px"><span style="font-family: tahoma\, sans-serif">Little Britches LLC Children&#39\;s and Maternity Resale and Specialty Shop just opened in Westminster and is a local and family owned business striving to help the community in the ultimate recycling of children&rsquo\;s and maternity clothes\, toys\, books\, and equipment. Customers can bring their items in to sell and choose cash on the spot or 20% more for store credit. You can find new products as well as gently used items. Store hours are Mon. - Sat. 9am-7pm&nbsp\;and Sun. 10am-6pm\,&nbsp\;located at 11187 Sheridan Blvd in Westminster. Call us at (303)404-0555 or email </span><a href="mailto:littlebritchesllc@hotmail.com">littlebritchesllc@hotmail.com</a>.&nbsp\;&nbsp\;&nbsp\;&nbsp\;&nbsp\;&nbsp\;&nbsp\;&nbsp\;&nbsp\;&nbsp\;&nbsp\;&nbsp\;&nbsp\;&nbsp\;&nbsp\;&nbsp\;&nbsp\;&nbsp\;&nbsp\;&nbsp\;&nbsp\;&nbsp\;&nbsp\;&nbsp\;&nbsp\;&nbsp\;&nbsp\;&nbsp\;&nbsp\;&nbsp\;&nbsp\;&nbsp\;&nbsp\;&nbsp\;&nbsp\;&nbsp\;&nbsp\;&nbsp\;&nbsp\;&nbsp\;&nbsp\;&nbsp\;&nbsp\;&nbsp\;&nbsp\;&nbsp\;&nbsp\;&nbsp\;&nbsp\;&nbsp\;&nbsp\;&nbsp\;&nbsp\;&nbsp\;&nbsp\;&nbsp\;&nbsp\;&nbsp\;&nbsp\;&nbsp\;&nbsp\;&nbsp\;&nbsp\;&nbsp\;&nbsp\;&nbsp\;</span>&nbsp\;&nbsp\;&nbsp\;&nbsp\;&nbsp\;&nbsp\;&nbsp\;&nbsp\;&nbsp\;&nbsp\;&nbsp\;&nbsp\;&nbsp\;&nbsp\;&nbsp\;&nbsp\;&nbsp\;&nbsp\;&nbsp\;&nbsp\;&nbsp\;&nbsp\;&nbsp\;&nbsp\;&nbsp\;&nbsp\;&nbsp\;&nbsp\;&nbsp\;&nbsp\;&nbsp\;&nbsp\;&nbsp\;&nbsp\;&nbsp\;&nbsp\;&nbsp\;&nbsp\;&nbsp\;&nbsp\;&nbsp\;&nbsp\;&nbsp\;&nbsp\;&nbsp\;&nbsp\;&nbsp\;&nbsp\;&nbsp\;&nbsp\;&nbsp\;&nbsp\;&nbsp\;&nbsp\;&nbsp\;&nbsp\;&nbsp\;&nbsp\;&nbsp\;&nbsp\;&nbsp\;&nbsp\;&nbsp\;&nbsp\;&nbsp\;&nbsp\;&nbsp\;&nbsp\;&nbsp\;&nbsp\;&nbsp\;&nbsp\;&nbsp\;&nbsp\;&nbsp\;&nbsp\;&nbsp\;&nbsp\;&nbsp\;&nbsp\;&nbsp\;&nbsp\;&nbsp\;&nbsp\;&nbsp\;<br />\n<br />\n
LOCATION:11187 Sheridan Blvd. #600 Westminster\, CO. 80020
UID:e.641.1388
SEQUENCE:3
DTSTAMP:20260420T100017Z
URL:http://business.broomfieldchamber.com/events/details/ribbon-cutting-for-little-britches-04-08-2011-1388
END:VEVENT

END:VCALENDAR
