BEGIN:VCALENDAR
VERSION:2.0
PRODID:-//ChamberMaster//Event Calendar 2.0//EN
METHOD:PUBLISH
X-PUBLISHED-TTL:P3D
REFRESH-INTERVAL:P3D
CALSCALE:GREGORIAN
BEGIN:VEVENT
DTSTART:20110921T183000Z
DTEND:20110921T193000Z
X-MICROSOFT-CDO-ALLDAYEVENT:FALSE
SUMMARY:Ribbon Cutting for Living Well\, LLC
DESCRIPTION:The mission of Living Well\, LLC is to support our clients and community in healthy living\, by balancing the body so we are thriving in our lives\, not just surviving.  Amy Richardson is a Certified Nutrition Therapist and Megan Magee is a Registered Dietetic Tech.  Services include nutrition counseling\, metabolic weight loss\, laser stress and allergy elimination\, and customized balancing programs to support health.\n\n\n\n*Lunch will be served.
X-ALT-DESC;FMTTYPE=text/html:<span style="font-size: 14px"><span style="font-family: verdana"><em>The mission of Living Well\, LLC is to support our clients and community in healthy living\, by balancing the body so we are thriving in our lives\, not just surviving.&nbsp\; Amy Richardson is a Certified Nutrition Therapist and Megan Magee is a Registered Dietetic Tech.&nbsp\; Services include nutrition counseling\, metabolic weight loss\, laser stress and allergy elimination\, and customized balancing programs to support health.<br />\n<br />\n*Lunch will be served.</em></span></span><br />\n&nbsp\;
LOCATION:54 Garden Center Broomfield\, CO 80020
UID:e.641.2878
SEQUENCE:3
DTSTAMP:20260420T034759Z
URL:http://business.broomfieldchamber.com/events/details/ribbon-cutting-for-living-well-llc-09-21-2011-2878
END:VEVENT

END:VCALENDAR
