BEGIN:VCALENDAR
VERSION:2.0
PRODID:-//ChamberMaster//Event Calendar 2.0//EN
METHOD:PUBLISH
X-PUBLISHED-TTL:P3D
REFRESH-INTERVAL:P3D
CALSCALE:GREGORIAN
BEGIN:VEVENT
DTSTART:20110624T210000Z
DTEND:20110624T220000Z
X-MICROSOFT-CDO-ALLDAYEVENT:FALSE
SUMMARY:Ribbon Cutting for Loftea Cafe
DESCRIPTION:Come join us as the Broomfield Chamber of Commerce officiates the Grand Opening of our coffee shop in the Arista Place development.  \n\n	\n\n	My husband George and I have just opened up our specialty\, organic & local coffee shop in the 1st Bank Center area and we are extremely excited to share all of the wonderful paninis\, salads\, soups\, & espresso drinks we make with you!\n\n	\n\n	We will be giving away gift certificates to use at our store\, as well as sampling of our products (including drinks).
X-ALT-DESC;FMTTYPE=text/html:<p>\n	<span style="font-size: 14px"><strong>Come join us as the Broomfield Chamber of Commerce officiates&nbsp\;the Grand Opening of our coffee shop in the Arista Place development.&nbsp\; </strong></span><br />\n	<br />\n	<span style="font-size: 14px">My husband&nbsp\;George and I&nbsp\;have just opened up our specialty\, organic &amp\; local coffee shop in the 1st Bank Center area and we are extremely excited to share all of the wonderful paninis\, salads\, soups\, &amp\; espresso drinks we make with you!<br />\n	<br />\n	<em><strong>We will be giving away gift certificates to use at our store\, as well as sampling of our products (including drinks).</strong></em><br />\n	&nbsp\;</span></p>\n
LOCATION:11542 Colony Row Broomfield\, CO 80021
UID:e.641.1482
SEQUENCE:3
DTSTAMP:20260420T063519Z
URL:http://business.broomfieldchamber.com/events/details/ribbon-cutting-for-loftea-cafe-06-24-2011-1482
END:VEVENT

END:VCALENDAR
