BEGIN:VCALENDAR
VERSION:2.0
PRODID:-//ChamberMaster//Event Calendar 2.0//EN
METHOD:PUBLISH
X-PUBLISHED-TTL:P3D
REFRESH-INTERVAL:P3D
CALSCALE:GREGORIAN
BEGIN:VEVENT
DTSTART:20110126T210000Z
DTEND:20110126T220000Z
X-MICROSOFT-CDO-ALLDAYEVENT:FALSE
SUMMARY:Ribbon Cutting for Marco's Pizza
DESCRIPTION:
X-ALT-DESC;FMTTYPE=text/html:
LOCATION:Marco's Pizza 6785 West 120th Avenue Broomfield\, CO 80020 In the Safeway Plaza\, next to Lionheart Cleaners
UID:e.641.1265
SEQUENCE:3
DTSTAMP:20260420T155429Z
URL:http://business.broomfieldchamber.com/events/details/ribbon-cutting-for-marco-s-pizza-01-26-2011-1265
END:VEVENT

END:VCALENDAR
