BEGIN:VCALENDAR
VERSION:2.0
PRODID:-//ChamberMaster//Event Calendar 2.0//EN
METHOD:PUBLISH
X-PUBLISHED-TTL:P3D
REFRESH-INTERVAL:P3D
CALSCALE:GREGORIAN
BEGIN:VEVENT
DTSTART:20120201T230000Z
DTEND:20120202T000000Z
X-MICROSOFT-CDO-ALLDAYEVENT:FALSE
SUMMARY:Ribbon Cutting for Mary Kay-Debra Gross
DESCRIPTION:Join us for a happy hour at the "Beauty Bar" and celebrate our Grand opening!  \n\n\n\nRefreshments\, fun\, prizes\, and the opportunity to sample the newest addition to our already extensive skin care line-our new Botanical Effects products for those who want a holistic and environmentally friendly approach to completely customized skin care!  Everyone is unique and so should your skin care. \n\n\n\nPlus\, 10% of any purchases made that day will be donated to the Mary Kay Foundation which supports Domestic Violence programs and shelters and Cancer research that affect women.  You may also make a donation by going visiting: www.marykayfoundation.org  See you there!
X-ALT-DESC;FMTTYPE=text/html:<span style="font-size:14px\;"><strong><span style="font-size:16px\;"><span style="font-family: arial\,sans-serif\;">Join us for a happy hour at the &quot\;Beauty Bar&quot\; and celebrate our</span></span></strong><span style="font-family: arial\,sans-serif\;"><strong><span style="font-size:16px\;"> Grand opening!&nbsp\; </span></strong><br />\n<br />\nRefreshments\, fun\, prizes\, and&nbsp\;the opportunity to sample the&nbsp\;newest addition to our already extensive skin care line-our new Botanical Effects products for those who want a holistic and environmentally friendly&nbsp\;approach to completely customized skin care!&nbsp\;&nbsp\;Everyone is unique and so should your skin care.&nbsp\;<br />\n<br />\nPlus\, 10% of any purchases made that day will be donated to the Mary Kay Foundation which supports Domestic Violence&nbsp\;programs and shelters&nbsp\;and Cancer research that affect women.&nbsp\; You may also make a donation by going visiting: <a href="http://www.marykayfoundation.org/">www.marykayfoundation.org</a>&nbsp\; See you there!</span></span>
LOCATION:Mary Kay Studio 8771 Wolff Court Building 14 Suite 220 Westminster\, CO 80030
UID:e.641.3207
SEQUENCE:3
DTSTAMP:20260419T193408Z
URL:http://business.broomfieldchamber.com/events/details/ribbon-cutting-for-mary-kay-debra-gross-02-01-2012-3207
END:VEVENT

END:VCALENDAR
