BEGIN:VCALENDAR
VERSION:2.0
PRODID:-//ChamberMaster//Event Calendar 2.0//EN
METHOD:PUBLISH
X-PUBLISHED-TTL:P3D
REFRESH-INTERVAL:P3D
CALSCALE:GREGORIAN
BEGIN:VEVENT
DTSTART:20100505T180000Z
DTEND:20100505T190000Z
X-MICROSOFT-CDO-ALLDAYEVENT:FALSE
SUMMARY:Ribbon Cutting for Matt Mullins Farmers Ins.
DESCRIPTION:Ribbon Cutting May 5th at 12noon at Chamber Office
X-ALT-DESC;FMTTYPE=text/html:<div>Ribbon Cutting May 5th at 12noon at Chamber Office</div>
LOCATION:
UID:e.641.1011
SEQUENCE:3
DTSTAMP:20260421T023825Z
URL:http://business.broomfieldchamber.com/events/details/ribbon-cutting-for-matt-mullins-farmers-ins-05-05-2010-1011
END:VEVENT

END:VCALENDAR
