BEGIN:VCALENDAR
VERSION:2.0
PRODID:-//ChamberMaster//Event Calendar 2.0//EN
METHOD:PUBLISH
X-PUBLISHED-TTL:P3D
REFRESH-INTERVAL:P3D
CALSCALE:GREGORIAN
BEGIN:VEVENT
DTSTART:20120329T150000Z
DTEND:20120329T160000Z
X-MICROSOFT-CDO-ALLDAYEVENT:FALSE
SUMMARY:Ribbon Cutting for Maurice's
DESCRIPTION:What started in 1931 as a small women's fashion shop in Duluth\, Minnesota\, has grown to over 800 stores in 44 states across the country. Maurices is the leading hometown store carrying sizes 1-24.
X-ALT-DESC;FMTTYPE=text/html:<p>\n	<span style="font-size: 14px"><span style="font-family: verdana">What started in 1931 as a small women&#39\;s fashion shop in Duluth\, Minnesota\, has grown to over 800 stores in 44 states across the country. Maurices is the leading hometown store carrying sizes 1-24.</span></span></p>\n
LOCATION:FlartIron Crossing Mall Across from California Pizza Kitchen
UID:e.641.3916
SEQUENCE:3
DTSTAMP:20260419T175956Z
URL:http://business.broomfieldchamber.com/events/details/ribbon-cutting-for-maurice-s-03-29-2012-3916
END:VEVENT

END:VCALENDAR
