BEGIN:VCALENDAR
VERSION:2.0
PRODID:-//ChamberMaster//Event Calendar 2.0//EN
METHOD:PUBLISH
X-PUBLISHED-TTL:P3D
REFRESH-INTERVAL:P3D
CALSCALE:GREGORIAN
BEGIN:VEVENT
DTSTART:20120730T153000Z
DTEND:20120730T163000Z
X-MICROSOFT-CDO-ALLDAYEVENT:FALSE
SUMMARY:Ribbon Cutting for McAdams Plumbing
DESCRIPTION:McAdams Plumbing\, based out of Broomfield\, is family owned and operated and has been in business since February of 2009. We offer high quality service at fair prices\, but our service doesn't end when the job ends. McAdams Plumbing strives to build long lasting relationships with customers based on trust and integrity.
X-ALT-DESC;FMTTYPE=text/html:<br />\n<span style="font-size: 14px"><span style="font-family: verdana">McAdams Plumbing\, based out of Broomfield\, is family owned and operated and has been in business since February of 2009. We offer high quality service at fair prices\, but our service doesn&rsquo\;t end when the job ends. McAdams Plumbing strives to build long lasting relationships with customers based on trust and integrity.</span></span><br />\n<br />\n
LOCATION:Broomfield Chamber 2095 W. 6th Ave. Broomfield\, CO 80020
UID:e.641.4229
SEQUENCE:3
DTSTAMP:20260419T133030Z
URL:http://business.broomfieldchamber.com/events/details/ribbon-cutting-for-mcadams-plumbing-07-30-2012-4229
END:VEVENT

END:VCALENDAR
