BEGIN:VCALENDAR
VERSION:2.0
PRODID:-//ChamberMaster//Event Calendar 2.0//EN
METHOD:PUBLISH
X-PUBLISHED-TTL:P3D
REFRESH-INTERVAL:P3D
CALSCALE:GREGORIAN
BEGIN:VEVENT
DTSTART:20110629T210000Z
DTEND:20110629T220000Z
X-MICROSOFT-CDO-ALLDAYEVENT:FALSE
SUMMARY:Ribbon Cutting for Metro Brokers Front Range North
DESCRIPTION:Metro Brokers Front Range North\, \nlocated in the heart of Broomfield\, CO\,\nhas been serving Broomfield and the entire \nDenver Metro Area since 2001.\nWith fifteen licensed\, professional\, and experienced real estate agents\, \nthey are ready to serve your real estate needs\, with expertise in all aspects \nof buying and selling real estate.
X-ALT-DESC;FMTTYPE=text/html:<pre>\n<span style="font-size: 18px"><em><span style="font-family: 'times new roman'\, 'serif'">Metro Brokers Front Range North\, \nlocated in the heart of Broomfield\, CO\,\nhas been serving Broomfield and the entire \nDenver Metro Area since 2001.\n</span><span style="font-family: 'times new roman'\, 'serif'"><font color="#000000">With fifteen licensed\, professional\, and experienced real estate agents\, \nthey are ready to serve your real estate needs\, with expertise in all aspects \nof buying and selling real estate.</font></span></em></span></pre>\n
LOCATION:7050 W 120th Ave\, Suite 200 Broomfield\, CO 80020
UID:e.641.1472
SEQUENCE:3
DTSTAMP:20260420T063309Z
URL:http://business.broomfieldchamber.com/events/details/ribbon-cutting-for-metro-brokers-front-range-north-06-29-2011-1472
END:VEVENT

END:VCALENDAR
