BEGIN:VCALENDAR
VERSION:2.0
PRODID:-//ChamberMaster//Event Calendar 2.0//EN
METHOD:PUBLISH
X-PUBLISHED-TTL:P3D
REFRESH-INTERVAL:P3D
CALSCALE:GREGORIAN
BEGIN:VEVENT
DTSTART:20100901T183000Z
DTEND:20100901T193000Z
X-MICROSOFT-CDO-ALLDAYEVENT:FALSE
SUMMARY:Ribbon Cutting for Mile High Chiropractic
DESCRIPTION:Lunch wil be provided
X-ALT-DESC;FMTTYPE=text/html:<div>Lunch wil be provided</div>
LOCATION:2255 E. 136th Ave. # C112Quail Creek Shopping CenterBroomfield 80023
UID:e.641.1127
SEQUENCE:3
DTSTAMP:20260420T202324Z
URL:http://business.broomfieldchamber.com/events/details/ribbon-cutting-for-mile-high-chiropractic-09-01-2010-1127
END:VEVENT

END:VCALENDAR
