BEGIN:VCALENDAR
VERSION:2.0
PRODID:-//ChamberMaster//Event Calendar 2.0//EN
METHOD:PUBLISH
X-PUBLISHED-TTL:P3D
REFRESH-INTERVAL:P3D
CALSCALE:GREGORIAN
BEGIN:VEVENT
DTSTART:20111216T163000Z
DTEND:20111216T173000Z
X-MICROSOFT-CDO-ALLDAYEVENT:FALSE
SUMMARY:Ribbon Cutting for Modern Woodmen of America
DESCRIPTION:Modern Woodmen of America is a fraternal benefit society serving more than 900\,000 members nationwide\, offering life insurance\, financial planning\, annuity\, investment and banking products\, along with fraternal member benefits for families and their communities. Our services include life insurance\, annuities\, IRA's & retirement and investments and college savings plans\, health and dental insurance (group & individual)\, disability\, long term care and medicare supplement/advantage plans.
X-ALT-DESC;FMTTYPE=text/html:<div>\n	<em><span style="font-size: 14px"><span style="font-family: verdana">Modern Woodmen of America is a fraternal benefit society&nbsp\;serving more than 900\,000 members nationwide\, offering life insurance\, financial planning\, annuity\, investment and banking products\, along with fraternal member benefits for families and their communities. Our services include life insurance\, annuities\, IRA&#39\;s &amp\; retirement and investments and college savings plans\, health and dental insurance (group &amp\; individual)\, disability\, long term care and medicare supplement/advantage plans.</span></span></em></div>\n
LOCATION:Broomfield Chamber Offices
UID:e.641.3107
SEQUENCE:3
DTSTAMP:20260419T223646Z
URL:http://business.broomfieldchamber.com/events/details/ribbon-cutting-for-modern-woodmen-of-america-12-16-2011-3107
END:VEVENT

END:VCALENDAR
