BEGIN:VCALENDAR
VERSION:2.0
PRODID:-//ChamberMaster//Event Calendar 2.0//EN
METHOD:PUBLISH
X-PUBLISHED-TTL:P3D
REFRESH-INTERVAL:P3D
CALSCALE:GREGORIAN
BEGIN:VEVENT
DTSTART:20111014T190000Z
DTEND:20111014T200000Z
X-MICROSOFT-CDO-ALLDAYEVENT:FALSE
SUMMARY:Ribbon Cutting for Mrs. Field's Cookies
DESCRIPTION:Mrs. Fields was founded in 1977 by Debra J. Fields. A young mother with no business experience\, launched her first cookie store in Palo Alto\, California. They told her she was crazy. No business could survive just selling cookies. Debbi had a goal of making people happy with her delicious chocolate chip cookies and that goal continues on today. She had no idea of the magnitude and impact that the premier cookie chain would have. Currently The Mrs. Fields' Brand\, Inc. has over 277 location in the United States and has Franchisees in 10 countries around the world.
X-ALT-DESC;FMTTYPE=text/html:<span style="font-size: 14px"><span style="font-family: verdana"><em>Mrs. Fields was founded in 1977 by Debra J. Fields. A young mother with no business experience\, launched her first cookie store in Palo Alto\, California. They told her she was crazy. No business could survive just selling cookies. Debbi had a goal of making people happy with her delicious chocolate chip cookies and that goal continues on today. She had no idea of the magnitude and impact that the premier cookie chain would have. Currently The Mrs. Fields&rsquo\; Brand\, Inc. has over 277 location in the United States and has Franchisees in 10 countries around the world. </em></span></span><br />\n
LOCATION:1 W. Flatiron Crossing Dr 2096\, Broomfield\, CO 80021
UID:e.641.2923
SEQUENCE:3
DTSTAMP:20260420T005923Z
URL:http://business.broomfieldchamber.com/events/details/ribbon-cutting-for-mrs-field-s-cookies-10-14-2011-2923
END:VEVENT

END:VCALENDAR
