BEGIN:VCALENDAR
VERSION:2.0
PRODID:-//ChamberMaster//Event Calendar 2.0//EN
METHOD:PUBLISH
X-PUBLISHED-TTL:P3D
REFRESH-INTERVAL:P3D
CALSCALE:GREGORIAN
BEGIN:VEVENT
DTSTART:20110726T190000Z
DTEND:20110726T200000Z
X-MICROSOFT-CDO-ALLDAYEVENT:FALSE
SUMMARY:Ribbon Cutting for New Star Cafe
DESCRIPTION:New Star Cafe boasts a diverse menu that features homemade American and Mexican Cuisine. They are open for Breakfast\, Lunch and Dinner and can be reached for more information at (303) 466-6099.\n\n\n\nSamples of their delicious food will be provided.
X-ALT-DESC;FMTTYPE=text/html:<span style="font-size: 16px"><em>New Star Cafe boasts a diverse menu that features homemade American and Mexican Cuisine. They are open for Breakfast\, Lunch and Dinner and can be reached for more information at (303) 466-6099.<br />\n<br />\nSamples of their delicious food will be provided.</em></span>
LOCATION:1255 E. 1st Ave.\, Unit A Broomfield\, CO 80020
UID:e.641.1484
SEQUENCE:3
DTSTAMP:20260420T050907Z
URL:http://business.broomfieldchamber.com/events/details/ribbon-cutting-for-new-star-cafe-07-26-2011-1484
END:VEVENT

END:VCALENDAR
