BEGIN:VCALENDAR
VERSION:2.0
PRODID:-//ChamberMaster//Event Calendar 2.0//EN
METHOD:PUBLISH
X-PUBLISHED-TTL:P3D
REFRESH-INTERVAL:P3D
CALSCALE:GREGORIAN
BEGIN:VEVENT
DTSTART:20120626T183000Z
DTEND:20120626T193000Z
X-MICROSOFT-CDO-ALLDAYEVENT:FALSE
SUMMARY:Ribbon Cutting for New West Physicians of Broomfield
DESCRIPTION:Broomfield Aesthetics provides a wide variety of healthy skin and beauty care treatments along with an exceptionally gentle healing touch.\n\n	In addition we offer an array of skin enhancing services and suggestions for ongoing maintenance and care tools our clients utilize for the rest of their lives.\n\n	Please join us at our Ribbon Cutting/Open House to see for yourself what we are all about.
X-ALT-DESC;FMTTYPE=text/html:<p>\n	<span style="font-size: 14px"><span style="font-family: verdana">Broomfield Aesthetics provides a wide variety of healthy skin and beauty care treatments along with an exceptionally gentle healing touch.</span></span></p>\n<p>\n	<span style="font-size: 14px"><span style="font-family: verdana">In addition we offer an array of skin enhancing services and suggestions for ongoing maintenance and care tools our clients utilize for the rest of their lives.</span></span></p>\n<p>\n	<span style="font-size: 14px"><span style="font-family: verdana">Please join us at our Ribbon Cutting/Open House to see for yourself what we are all about.</span></span><br />\n	<br />\n	&nbsp\;</p>\n
LOCATION:11550 Sheridan Boulevard Broomfield CO 80020
UID:e.641.4001
SEQUENCE:3
DTSTAMP:20260419T133356Z
URL:http://business.broomfieldchamber.com/events/details/ribbon-cutting-for-new-west-physicians-of-broomfield-06-26-2012-4001
END:VEVENT

END:VCALENDAR
