BEGIN:VCALENDAR
VERSION:2.0
PRODID:-//ChamberMaster//Event Calendar 2.0//EN
METHOD:PUBLISH
X-PUBLISHED-TTL:P3D
REFRESH-INTERVAL:P3D
CALSCALE:GREGORIAN
BEGIN:VEVENT
DTSTART:20110609T210000Z
DTEND:20110609T220000Z
X-MICROSOFT-CDO-ALLDAYEVENT:FALSE
SUMMARY:Ribbon Cutting for Noah's
DESCRIPTION:Ribbon Cutting for Noah's\n\nNoah's provides a functionality that meets personal\, business\, and professional needs.  A unique gathering place that supplies guests with a state-of-the-art\, fully-automated facility\; resourcing the public with an event center business venue\, recreation center\, and more\; all in the hands of one abundantly operated building.\n\n\n\nAfter the ribbon cutting\, all Chamber members are invited to a Wine Tasting & Food Pairing featuring our Preferred Vendors\, Voodoo Vine & A Heart's Desire Catering. This will go for an hour or so after the ribbon cutting ceremony\, and we'd love as many members to participate as possible!
X-ALT-DESC;FMTTYPE=text/html:<strong>Ribbon Cutting for Noah&#39\;s<br />\n<em><span style="font-size: medium"><span style="font-family: times new roman">Noah&#39\;s provides a functionality that meets personal\, business\, and professional needs. &nbsp\;A unique gathering place that supplies guests with a state-of-the-art\, fully-automated facility\; resourcing the public with an event center business venue\, recreation center\, and more\; all in the hands of one abundantly operated building.<br />\n<br />\n<span style="font-size: medium">After the ribbon cutting\, all Chamber members are invited to a Wine Tasting &amp\; Food Pairing featuring our Preferred Vendors\, Voodoo Vine &amp\; A Heart&#39\;s Desire Catering. This will go for an hour or so after the ribbon cutting ceremony\, and we&#39\;d love as many members to participate as possible!</span></span></span></em></strong><br />\n<br />\n
LOCATION:11881 N. Bradburn Blvd Westminster\, CO 80031
UID:e.641.1362
SEQUENCE:3
DTSTAMP:20260420T063450Z
URL:http://business.broomfieldchamber.com/events/details/ribbon-cutting-for-noah-s-06-09-2011-1362
END:VEVENT

END:VCALENDAR
