BEGIN:VCALENDAR
VERSION:2.0
PRODID:-//ChamberMaster//Event Calendar 2.0//EN
METHOD:PUBLISH
X-PUBLISHED-TTL:P3D
REFRESH-INTERVAL:P3D
CALSCALE:GREGORIAN
BEGIN:VEVENT
DTSTART:20120223T210000Z
DTEND:20120223T220000Z
X-MICROSOFT-CDO-ALLDAYEVENT:FALSE
SUMMARY:Ribbon Cutting for Northbrook Hand Therapy
DESCRIPTION:Northbrook Hand Therapy was established in 1986 in Thornton\, and in 2007 in Broomfield.We offer specialized outpatient upper extremity therapy\n\nprovided by Certified Hand Therapists.We work closely with hand surgeons and family physicians to provide expert care following hand and arm surgery\, injury or management of chronic conditions such as arthritis or tendinitis.
X-ALT-DESC;FMTTYPE=text/html:<span style="font-size: 12px"><span style="font-family: verdana">Northbrook Hand Therapy was established in 1986 in Thornton\, and in 2007 in Broomfield.We offer specialized outpatient upper extremity therapy<br />\nprovided by Certified Hand Therapists.We work closely with hand surgeons and family physicians to provide expert care following hand and arm surgery\, injury or management of chronic conditions such as arthritis or tendinitis.</span></span><br />\n
LOCATION:7050 W. 120th Ste. 120 Broomfield 80020
UID:e.641.3135
SEQUENCE:3
DTSTAMP:20260419T193406Z
URL:http://business.broomfieldchamber.com/events/details/ribbon-cutting-for-northbrook-hand-therapy-02-23-2012-3135
END:VEVENT

END:VCALENDAR
