BEGIN:VCALENDAR
VERSION:2.0
PRODID:-//ChamberMaster//Event Calendar 2.0//EN
METHOD:PUBLISH
X-PUBLISHED-TTL:P3D
REFRESH-INTERVAL:P3D
CALSCALE:GREGORIAN
BEGIN:VEVENT
DTSTART:20111130T183000Z
DTEND:20111130T193000Z
X-MICROSOFT-CDO-ALLDAYEVENT:FALSE
SUMMARY:Ribbon Cutting for Nothing Bundt Cakes
DESCRIPTION:One-of-a-kind Nothing Bundt Cakes reintroduces an old family favorite   the bundt cake   with a fresh\, clean look that appeals to all ages. With 10 flavors and 40 decorative designs\, Nothing Bundt Cakes are delicious\, smart\, contemporary and fun. The bakery specializes in offering celebration solutions for moments that matter and enhancing every celebration\, big or small.
X-ALT-DESC;FMTTYPE=text/html:<span style="font-size: 14px"><span style="font-family: verdana"><em>One-of-a-kind Nothing Bundt Cakes reintroduces an old family favorite &ndash\; the bundt cake &ndash\; with a fresh\, clean look that appeals to all ages. With 10 flavors and 40 decorative designs\, Nothing Bundt Cakes are delicious\, smart\, contemporary and fun. The bakery specializes in offering celebration solutions for moments that matter and enhancing every celebration\, big or small.&nbsp\;&nbsp\;</em></span></span><br />\n
LOCATION:10449 Town Center Drive\, Suite 500 Westminster\, CO 80021
UID:e.641.3053
SEQUENCE:3
DTSTAMP:20260420T005835Z
URL:http://business.broomfieldchamber.com/events/details/ribbon-cutting-for-nothing-bundt-cakes-11-30-2011-3053
END:VEVENT

END:VCALENDAR
