BEGIN:VCALENDAR
VERSION:2.0
PRODID:-//ChamberMaster//Event Calendar 2.0//EN
METHOD:PUBLISH
X-PUBLISHED-TTL:P3D
REFRESH-INTERVAL:P3D
CALSCALE:GREGORIAN
BEGIN:VEVENT
DTSTART:20110613T160000Z
DTEND:20110613T170000Z
X-MICROSOFT-CDO-ALLDAYEVENT:FALSE
SUMMARY:Ribbon Cutting for Orenda International
DESCRIPTION:
X-ALT-DESC;FMTTYPE=text/html:
LOCATION:Broomfield Chamber offices 2095 W. 6th Avenue\, Suite 109 Broomfield\, CO 80020
UID:e.641.1456
SEQUENCE:3
DTSTAMP:20260420T063831Z
URL:http://business.broomfieldchamber.com/events/details/ribbon-cutting-for-orenda-international-06-13-2011-1456
END:VEVENT

END:VCALENDAR
