BEGIN:VCALENDAR
VERSION:2.0
PRODID:-//ChamberMaster//Event Calendar 2.0//EN
METHOD:PUBLISH
X-PUBLISHED-TTL:P3D
REFRESH-INTERVAL:P3D
CALSCALE:GREGORIAN
BEGIN:VEVENT
DTSTART:20110926T180000Z
DTEND:20110926T190000Z
X-MICROSOFT-CDO-ALLDAYEVENT:FALSE
SUMMARY:Ribbon Cutting for Orion Mortgage
DESCRIPTION:Don and Terri Opeka\, working together at Orion Mortgage since 1996\, serve the mortgage needs of home buyers and owners. They offer competitive pricing on a wide range of products from many lenders. They appreciate the constant referrals from the Broomfield Chamber and others in the community. Testimonials at www.OrionMortgageInc.com
X-ALT-DESC;FMTTYPE=text/html:<span style="font-family: verdana"><span style="font-size: 14px"><em>Don and Terri Opeka\, working together at Orion Mortgage since 1996\, serve the mortgage needs of home buyers and owners. They offer competitive pricing on a wide range of products from many lenders.&nbsp\;They appreciate the constant referrals from the Broomfield Chamber and others in the community. Testimonials at <a href="http://www.orionmortgageinc.com/"><span style="color: blue">www.OrionMortgageInc.com</span></a></em></span></span><br />\n
LOCATION:10560 Wadsworth Blvd. Broomfield\, CO 80021
UID:e.641.2904
SEQUENCE:3
DTSTAMP:20260420T021457Z
URL:http://business.broomfieldchamber.com/events/details/ribbon-cutting-for-orion-mortgage-09-26-2011-2904
END:VEVENT

END:VCALENDAR
