BEGIN:VCALENDAR
VERSION:2.0
PRODID:-//ChamberMaster//Event Calendar 2.0//EN
METHOD:PUBLISH
X-PUBLISHED-TTL:P3D
REFRESH-INTERVAL:P3D
CALSCALE:GREGORIAN
BEGIN:VEVENT
DTSTART:20120106T203000Z
DTEND:20120106T213000Z
X-MICROSOFT-CDO-ALLDAYEVENT:FALSE
SUMMARY:Ribbon Cutting for Oxford Financial Designs
DESCRIPTION:Oxford Financial Designs located in Westminster\, Colorado is a full service Investment Advisory Firm providing Financial and Estate Planning Services. We have been helping people develop and maintain responsible Financial and Estate Plans since 1975. We create a plan that is suitable for you and your financial needs and that supports your retirement goals.
X-ALT-DESC;FMTTYPE=text/html:<em><span style="font-family: verdana"><span style="font-size: 14px">Oxford Financial Designs located in Westminster\, Colorado is a full service Investment Advisory Firm providing Financial and Estate Planning Services. We have been helping people develop and maintain responsible Financial and Estate Plans since 1975. We create a plan that is suitable for you and your financial needs and that supports your retirement goals. </span></span></em>
LOCATION:Chamber Office Building
UID:e.641.3134
SEQUENCE:3
DTSTAMP:20260419T223336Z
URL:http://business.broomfieldchamber.com/events/details/ribbon-cutting-for-oxford-financial-designs-01-06-2012-3134
END:VEVENT

END:VCALENDAR
