BEGIN:VCALENDAR
VERSION:2.0
PRODID:-//ChamberMaster//Event Calendar 2.0//EN
METHOD:PUBLISH
X-PUBLISHED-TTL:P3D
REFRESH-INTERVAL:P3D
CALSCALE:GREGORIAN
BEGIN:VEVENT
DTSTART:20110510T160000Z
DTEND:20110510T170000Z
X-MICROSOFT-CDO-ALLDAYEVENT:FALSE
SUMMARY:Ribbon Cutting for Premier Members Federal Credit Union
DESCRIPTION:Since 1966\, Premier Members Federal Credit Union has served the banking needs of individuals and businesses alike in Boulder\, CO\, and the Denver metro area. With more than 40\,000 members\, approximately $400 million in assets and 12 full-service retail branch locations\, Premier Members has grown to become a leader in the credit union industry.\n\n\n\nPremier Members takes pride in giving back to the communities they serve\, supporting a wide variety of activities\, fund-raising events and charitable organizations like the March of Dimes\, United Way\, Boulder Shelter and many more. To learn more\, visit www.premiermembers.org.
X-ALT-DESC;FMTTYPE=text/html:<em><span style="font-size: 14px">Since 1966\, Premier Members Federal Credit Union has served the banking needs of individuals and businesses alike in Boulder\, CO\, and the Denver metro area. With more than 40\,000 members\, approximately $400 million in assets and 12 full-service retail branch locations\, Premier Members has grown to become a leader in the credit union industry.<br />\n<br />\nPremier Members takes pride in giving back to the communities they serve\, supporting a wide variety of activities\, fund-raising events and charitable organizations like the March of Dimes\, United Way\, Boulder Shelter and many more. To learn more\, visit <a href="http://www.premiermembers.org"><span style="color: #0000ff">www.premiermembers.org</span></a>.</span></em><br />\n<strong><em>&nbsp\;</em></strong><br />\n
LOCATION:5155 W. 120th Avenue Broomfield\, CO 80020 On the NE corner of Sheridan and 120th in the Hobby Lobby Shopping Center
UID:e.641.1380
SEQUENCE:3
DTSTAMP:20260420T080725Z
URL:http://business.broomfieldchamber.com/events/details/ribbon-cutting-for-premier-members-federal-credit-union-05-10-2011-1380
END:VEVENT

END:VCALENDAR
