BEGIN:VCALENDAR
VERSION:2.0
PRODID:-//ChamberMaster//Event Calendar 2.0//EN
METHOD:PUBLISH
X-PUBLISHED-TTL:P3D
REFRESH-INTERVAL:P3D
CALSCALE:GREGORIAN
BEGIN:VEVENT
DTSTART:20111209T174500Z
DTEND:20111209T184500Z
X-MICROSOFT-CDO-ALLDAYEVENT:FALSE
SUMMARY:Ribbon Cutting for Pure Barre
DESCRIPTION:Pure Barre is a total body workout that lifts your seat\, tones your thighs and burns fat in record-breaking time.\n\nUtilizing the ballet barre to perform small isometric movements set to fantastic music.\n\nPure Barre is the fastest\, most effective\, yet safest way to change your body. Students see results in just 10 classes.
X-ALT-DESC;FMTTYPE=text/html:<span style="font-family: arial"><span style="font-size: 14px">Pure Barre is a total body workout that lifts your seat\, tones your thighs and burns fat in record-breaking time.<br />\nUtilizing the ballet barre to perform small isometric movements set to fantastic music.<br />\nPure Barre is the fastest\, most effective\, yet safest way to change your body. Students see results in just 10 classes.</span></span>
LOCATION:Pure Barre Broomfield 11961 Bradburn Blvd. Suite 500 Westminster\, CO 80031 720.633.6398
UID:e.641.3101
SEQUENCE:3
DTSTAMP:20260419T223334Z
URL:http://business.broomfieldchamber.com/events/details/ribbon-cutting-for-pure-barre-12-09-2011-3101
END:VEVENT

END:VCALENDAR
