BEGIN:VCALENDAR
VERSION:2.0
PRODID:-//ChamberMaster//Event Calendar 2.0//EN
METHOD:PUBLISH
X-PUBLISHED-TTL:P3D
REFRESH-INTERVAL:P3D
CALSCALE:GREGORIAN
BEGIN:VEVENT
DTSTART:20110520T150000Z
DTEND:20110520T160000Z
X-MICROSOFT-CDO-ALLDAYEVENT:FALSE
SUMMARY:Ribbon Cutting for Quality V Construction\, Inc.
DESCRIPTION:Quality V Construction is one of the premier roofing companies in Colorado. We've been in business for over 12 years. Ricardo Valera\, owner of Quality V Contaruction\, has been in the industry for over  22 years where he's gained the knowledge and expertise regarding roofing\, gutters\,painting\, and general construction tasks. We can be reached at (303) 657-5415 or on the web at www.QualityVConstructionInc.com
X-ALT-DESC;FMTTYPE=text/html:<span style="font-size: 10pt"><span style="color: black"><span style="font-family: tahoma\, sans-serif">Quality V Construction is&nbsp\;one of the premier roofing companies in Colorado. We&#39\;ve been in business for over 12 years. Ricardo Valera\, owner of Quality V Contaruction\, has&nbsp\;been in the industry for over&nbsp\; 22&nbsp\;years where&nbsp\;he&#39\;s gained the knowledge and&nbsp\;expertise regarding roofing\, gutters\,painting\, and general construction tasks.&nbsp\;We can be reached at (303) 657-5415 or on the web at <a href="http://www.QualityVConstructionInc.com">www.QualityVConstructionInc.com</a></span></span></span><br />\n
LOCATION:Broomfield Chamber Offices 2095 W. 6th Ave.\, Suite 109 Broomfield\, CO 80020
UID:e.641.1443
SEQUENCE:3
DTSTAMP:20260420T075757Z
URL:http://business.broomfieldchamber.com/events/details/ribbon-cutting-for-quality-v-construction-inc-05-20-2011-1443
END:VEVENT

END:VCALENDAR
