BEGIN:VCALENDAR
VERSION:2.0
PRODID:-//ChamberMaster//Event Calendar 2.0//EN
METHOD:PUBLISH
X-PUBLISHED-TTL:P3D
REFRESH-INTERVAL:P3D
CALSCALE:GREGORIAN
BEGIN:VEVENT
DTSTART:20100714T210000Z
DTEND:20100714T220000Z
X-MICROSOFT-CDO-ALLDAYEVENT:FALSE
SUMMARY:Ribbon Cutting for RE/MAX Alliance
DESCRIPTION:
X-ALT-DESC;FMTTYPE=text/html:<div><div>&nbsp\;</div></div>
LOCATION:RE/MAX Alliance Broomfield6343 W. 120th Ave\, Suite 100Broomfield\, CO 80020
UID:e.641.1088
SEQUENCE:3
DTSTAMP:20260420T233250Z
URL:http://business.broomfieldchamber.com/events/details/ribbon-cutting-for-re-max-alliance-07-14-2010-1088
END:VEVENT

END:VCALENDAR
