BEGIN:VCALENDAR
VERSION:2.0
PRODID:-//ChamberMaster//Event Calendar 2.0//EN
METHOD:PUBLISH
X-PUBLISHED-TTL:P3D
REFRESH-INTERVAL:P3D
CALSCALE:GREGORIAN
BEGIN:VEVENT
DTSTART:20120127T220000Z
DTEND:20120127T230000Z
X-MICROSOFT-CDO-ALLDAYEVENT:FALSE
SUMMARY:Ribbon Cutting for Reflection Signs and Graphics
DESCRIPTION:Reflection Signs and Graphics is a full service\, indoor/outdoor sign company committed to offering environmentally friendly sign media alternatives whenever possible.  We are an HP ecosolutions Trained Printing Company\, utilizing a large format printer\, using latex inks and emitting no VOCs.  Consider PVC-free wallpaper\, banners\, films\, papers\, & textiles.
X-ALT-DESC;FMTTYPE=text/html:<p>\n	<span style="font-size: 14px"><span style="font-family: verdana">Reflection Signs and Graphics is a full service\, indoor/outdoor sign company committed to offering environmentally friendly sign media alternatives whenever possible.&nbsp\; We are an HP ecosolutions Trained Printing Company\, utilizing a large format printer\, using latex inks and emitting no VOCs.&nbsp\; Consider PVC-free wallpaper\, banners\, films\, papers\, &amp\; textiles.</span></span></p>\n
LOCATION:12125 Mariposa St.\, Westminster\, CO 80234
UID:e.641.3133
SEQUENCE:3
DTSTAMP:20260419T205738Z
URL:http://business.broomfieldchamber.com/events/details/ribbon-cutting-for-reflection-signs-and-graphics-01-27-2012-3133
END:VEVENT

END:VCALENDAR
