BEGIN:VCALENDAR
VERSION:2.0
PRODID:-//ChamberMaster//Event Calendar 2.0//EN
METHOD:PUBLISH
X-PUBLISHED-TTL:P3D
REFRESH-INTERVAL:P3D
CALSCALE:GREGORIAN
BEGIN:VEVENT
DTSTART:20120614T220000Z
DTEND:20120614T230000Z
X-MICROSOFT-CDO-ALLDAYEVENT:FALSE
SUMMARY:Ribbon Cutting for Renaissance Boulder Flatiron Hotel
DESCRIPTION:Welcome to the four-diamond Renaissance Boulder Flatiron Hotel in Broomfield\, CO. Conveniently located along the US 36 Denver/Boulder corridor\, adjacent to the Flatiron Crossing\, the hotel offers 232 suites and over 6\,000 square feet of meeting space.\n\nA true Renaissance experience\, the hotel has recently completed a $4M refresh on all rooms\, meeting spaces and Flatz restaurant and bar. Come discover the unique\, indigenous and independent spirit of the Renaissance.
X-ALT-DESC;FMTTYPE=text/html:<span style="font-size: 14px"><span style="font-family: verdana">Welcome to the four-diamond Renaissance Boulder Flatiron Hotel in Broomfield\, CO. Conveniently located along the US 36 Denver/Boulder corridor\, adjacent to the Flatiron Crossing\, the hotel offers 232 suites and over 6\,000 square feet of meeting space.<br />\nA true Renaissance experience\, the hotel has recently completed a $4M refresh on all rooms\, meeting spaces and Flatz restaurant and bar. Come discover the unique\, indigenous and independent spirit of the Renaissance.</span></span>
LOCATION:500 FlatIron Blvd. Broomfield CO 80021
UID:e.641.4227
SEQUENCE:3
DTSTAMP:20260419T132604Z
URL:http://business.broomfieldchamber.com/events/details/ribbon-cutting-for-renaissance-boulder-flatiron-hotel-06-14-2012-4227
END:VEVENT

END:VCALENDAR
