BEGIN:VCALENDAR
VERSION:2.0
PRODID:-//ChamberMaster//Event Calendar 2.0//EN
METHOD:PUBLISH
X-PUBLISHED-TTL:P3D
REFRESH-INTERVAL:P3D
CALSCALE:GREGORIAN
BEGIN:VEVENT
DTSTART:20120117T230000Z
DTEND:20120118T000000Z
X-MICROSOFT-CDO-ALLDAYEVENT:FALSE
SUMMARY:Ribbon Cutting for Renegade Graphics
DESCRIPTION:Is it time to give your marketing materials a face-lift? Since 1999 Renegade Graphics\, LLC has offered agency quality print and web design solutions to small businesses on a limited budget. Create a winning first impression to take your business to the next level!
X-ALT-DESC;FMTTYPE=text/html:<span style="font-size: 16px"><span style="font-family: arial">Is it time to give your marketing materials a face-lift? Since 1999 Renegade Graphics\, LLC has offered agency quality print and web design solutions to small businesses on a limited budget. Create a winning first impression to take your business to the next level! </span></span><br />\n<br />\n
LOCATION:Broomfield Chamber 2095 West 6th Avenue\, Suite 109 Broomfield\, CO 80020
UID:e.641.3150
SEQUENCE:3
DTSTAMP:20260419T205841Z
URL:http://business.broomfieldchamber.com/events/details/ribbon-cutting-for-renegade-graphics-01-17-2012-3150
END:VEVENT

END:VCALENDAR
