BEGIN:VCALENDAR
VERSION:2.0
PRODID:-//ChamberMaster//Event Calendar 2.0//EN
METHOD:PUBLISH
X-PUBLISHED-TTL:P3D
REFRESH-INTERVAL:P3D
CALSCALE:GREGORIAN
BEGIN:VEVENT
DTSTART:20111109T223000Z
DTEND:20111109T233000Z
X-MICROSOFT-CDO-ALLDAYEVENT:FALSE
SUMMARY:Ribbon Cutting for Robins Automotive
DESCRIPTION:Robins Automotive & Towing has been your trustworthy neighborhood mechanic and tow service for over 12 years. Our technicians actively continue their education with the latest technology to ensure accurate diagnostics\, quality maintenance\, and customer satisfaction. We're never too far\, for honest\, reliable care for your car!
X-ALT-DESC;FMTTYPE=text/html:<span style="font-family: verdana"><em><span style="font-size: 14px">Robins Automotive &amp\; Towing has been your trustworthy neighborhood mechanic and tow service for over 12 years. Our technicians actively continue their education with the latest technology to ensure accurate diagnostics\, quality maintenance\, and customer satisfaction. We&rsquo\;re never too far\, for honest\, reliable care for your car!</span></em></span><br />\n
LOCATION:2245 W. 92nd Avenue Federal Heights\, CO 80260
UID:e.641.3077
SEQUENCE:3
DTSTAMP:20260419T235427Z
URL:http://business.broomfieldchamber.com/events/details/ribbon-cutting-for-robins-automotive-11-09-2011-3077
END:VEVENT

END:VCALENDAR
