BEGIN:VCALENDAR
VERSION:2.0
PRODID:-//ChamberMaster//Event Calendar 2.0//EN
METHOD:PUBLISH
X-PUBLISHED-TTL:P3D
REFRESH-INTERVAL:P3D
CALSCALE:GREGORIAN
BEGIN:VEVENT
DTSTART:20120208T160000Z
DTEND:20120208T170000Z
X-MICROSOFT-CDO-ALLDAYEVENT:FALSE
SUMMARY:Ribbon Cutting for Rodan and Fields Lisa Poole
DESCRIPTION:My mission is to help people love the skin they are in!\n\n	 \n\n	I partnered with Drs. Rodan & Fields\, the creators of Proactiv\, on their new venture... anti-age. We offer clinically proven products for anti-age\, sun damage/dark spots\, adult acne and sensitive skin that are guaranteed to create results. \n\n	 \n\n	Skin\, it's a beautiful thing\, wear it well- let me help!
X-ALT-DESC;FMTTYPE=text/html:<div dir="ltr">\n	<span style="font-family: verdana"><span style="font-size: 12px">My mission is to help people love the skin they are in!</span></span></div>\n<div dir="ltr">\n	<span style="font-family: verdana"><span style="font-size: 12px">&nbsp\;</span></span></div>\n<div dir="ltr">\n	<span style="font-family: verdana"><span style="font-size: 12px">I partnered with Drs. Rodan &amp\; Fields\,&nbsp\;the&nbsp\;creators of Proactiv\, on their new venture... anti-age.&nbsp\;We offer clinically proven products for anti-age\, sun damage/dark spots\, adult acne and sensitive skin that are guaranteed to&nbsp\;create results.&nbsp\;</span></span></div>\n<div dir="ltr">\n	<span style="font-family: verdana"><span style="font-size: 12px">&nbsp\;</span></span></div>\n<div dir="ltr">\n	<span style="font-family: verdana"><span style="font-size: 12px">Skin\, it&#39\;s a beautiful thing\, wear it well- let me help!</span></span></div>\n
LOCATION:Broomfield Chamber 2095 W. 6th Ave. Suite 109 Broomfield\, CO 80020
UID:e.641.3175
SEQUENCE:3
DTSTAMP:20260419T193332Z
URL:http://business.broomfieldchamber.com/events/details/ribbon-cutting-for-rodan-and-fields-lisa-poole-02-08-2012-3175
END:VEVENT

END:VCALENDAR
