BEGIN:VCALENDAR
VERSION:2.0
PRODID:-//ChamberMaster//Event Calendar 2.0//EN
METHOD:PUBLISH
X-PUBLISHED-TTL:P3D
REFRESH-INTERVAL:P3D
CALSCALE:GREGORIAN
BEGIN:VEVENT
DTSTART:20120227T223000Z
DTEND:20120227T233000Z
X-MICROSOFT-CDO-ALLDAYEVENT:FALSE
SUMMARY:Ribbon Cutting for Rooter Scooty
DESCRIPTION:If we could show you a way to double or triple your current income without changing what you are currently doing\, save a lot of money\, bring more business into your existing business with a loyal customer base\, and have fun doing it\, would it be worth an hour of your time?\n\nJim Wylie 303-335-7266 and Stacey Wylie 720-366-6629
X-ALT-DESC;FMTTYPE=text/html:<span style="font-size: 14px"><span style="font-family: verdana">If we could show you a way to double or triple your current income without changing what you are currently doing\, save a lot of money\, bring more business into your existing business with a loyal customer base\, and have fun doing it\, would it be worth an hour of your time?<br />\nJim Wylie 303-335-7266 and Stacey Wylie 720-366-6629 </span></span>
LOCATION:Broomfield Chamber 2095 W. 6th Ave Suite 109 Broomfield CO 80020
UID:e.641.3221
SEQUENCE:3
DTSTAMP:20260419T193244Z
URL:http://business.broomfieldchamber.com/events/details/ribbon-cutting-for-rooter-scooty-02-27-2012-3221
END:VEVENT

END:VCALENDAR
