BEGIN:VCALENDAR
VERSION:2.0
PRODID:-//ChamberMaster//Event Calendar 2.0//EN
METHOD:PUBLISH
X-PUBLISHED-TTL:P3D
REFRESH-INTERVAL:P3D
CALSCALE:GREGORIAN
BEGIN:VEVENT
DTSTART:20110224T190000Z
DTEND:20110224T200000Z
X-MICROSOFT-CDO-ALLDAYEVENT:FALSE
SUMMARY:Ribbon Cutting for RSS Insurance
DESCRIPTION:Ribbon Cutting for\n\nRSS Insurance
X-ALT-DESC;FMTTYPE=text/html:<strong><span style="font-size: 14px">Ribbon Cutting for<br />\nRSS Insurance</span></strong>
LOCATION:3640 W. 112th Ave. Westminster CO 80031 (303) 429-3561
UID:e.641.1310
SEQUENCE:3
DTSTAMP:20260420T124723Z
URL:http://business.broomfieldchamber.com/events/details/ribbon-cutting-for-rss-insurance-02-24-2011-1310
END:VEVENT

END:VCALENDAR
