BEGIN:VCALENDAR
VERSION:2.0
PRODID:-//ChamberMaster//Event Calendar 2.0//EN
METHOD:PUBLISH
X-PUBLISHED-TTL:P3D
REFRESH-INTERVAL:P3D
CALSCALE:GREGORIAN
BEGIN:VEVENT
DTSTART:20110502T190000Z
DTEND:20110502T200000Z
X-MICROSOFT-CDO-ALLDAYEVENT:FALSE
SUMMARY:Ribbon Cutting for Saigon Dragon Asian Cuisine
DESCRIPTION:Saigon Dragon invites you and your family to experience tasty asian cuisine from Vietnam\, China\, and Thailand served in a relaxing and pleasant atmosphere. \n\n	We strive to provide you with the best service and with fresh\, quality\, healthy\, nutritious\, and authentic asian foods. \n\n	You have the option of dine-in\, take-out or FREE delivery service. \n\n	Please visit us at 2055 W. 136th Ave. #154 Broomfield\, CO 80023\n\n	(303)252-1688.
X-ALT-DESC;FMTTYPE=text/html:<p>\n	<em><span style="font-size: medium">Saigon Dragon invites you and your family to experience tasty asian cuisine from Vietnam\, China\, and Thailand served in a relaxing and pleasant atmosphere.&nbsp\;<br />\n	We strive to provide you with the best service and with fresh\, quality\, healthy\, nutritious\, and authentic asian foods.&nbsp\;<br />\n	You have the option of dine-in\, take-out or&nbsp\;FREE delivery service.&nbsp\;<br />\n	Please visit us at 2055 W. 136th Ave. #154 Broomfield\, CO 80023<br />\n	(303)252-1688.</span></em></p>\n<em>&nbsp\;</em><br />\n
LOCATION:2055 W. 136th Ave.\, Unit 154\\ Broomfield\, CO 80023
UID:e.641.1445
SEQUENCE:3
DTSTAMP:20260420T080113Z
URL:http://business.broomfieldchamber.com/events/details/ribbon-cutting-for-saigon-dragon-asian-cuisine-05-02-2011-1445
END:VEVENT

END:VCALENDAR
