BEGIN:VCALENDAR
VERSION:2.0
PRODID:-//ChamberMaster//Event Calendar 2.0//EN
METHOD:PUBLISH
X-PUBLISHED-TTL:P3D
REFRESH-INTERVAL:P3D
CALSCALE:GREGORIAN
BEGIN:VEVENT
DTSTART:20110708T210000Z
DTEND:20110708T220000Z
X-MICROSOFT-CDO-ALLDAYEVENT:FALSE
SUMMARY:Ribbon Cutting for Salon Cosabella
DESCRIPTION:Salon Cosabella has been a part of Broomfield community since 2006.  Most recently\, we've expanded our Arista location to be bigger\, brighter and house all of our hair and skin care services in one convenient location.  The trend-setting professionals at Salon Cosabella focus exclusively on helping you look and feel your beautiful best. We stay on top of today's fashion-forward styles and techniques and offer services ranging from women's and men's haircuts\, highlights\, hair color\, and hair extensions to waxing\, facials\, and airbrush tanning.
X-ALT-DESC;FMTTYPE=text/html:<p>\n	<em><span style="font-size: medium"><span style="font-family: calibri">Salon Cosabella has been a part of Broomfield community since 2006.&nbsp\;&nbsp\;Most recently\, w<span style="font-weight: normal"><span style="font-family: calibri\, sans-serif">e&#39\;ve expanded our Arista location to be bigger\, brighter and house all of our hair and skin care services in one convenient location. &nbsp\;</span></span>The trend-setting professionals at Salon Cosabella focus exclusively on helping you look and feel your beautiful best. We stay on top of today&#39\;s fashion-forward styles and techniques and offer services ranging from women&#39\;s and men&#39\;s haircuts\, highlights\, hair color\, and hair extensions to waxing\, facials\, and airbrush tanning. &nbsp\;</span></span></em></p>
LOCATION:8001 Arista Place\, Suite 120 Broomfield\, CO 80021
UID:e.641.1499
SEQUENCE:3
DTSTAMP:20260420T051347Z
URL:http://business.broomfieldchamber.com/events/details/ribbon-cutting-for-salon-cosabella-07-08-2011-1499
END:VEVENT

END:VCALENDAR
