BEGIN:VCALENDAR
VERSION:2.0
PRODID:-//ChamberMaster//Event Calendar 2.0//EN
METHOD:PUBLISH
X-PUBLISHED-TTL:P3D
REFRESH-INTERVAL:P3D
CALSCALE:GREGORIAN
BEGIN:VEVENT
DTSTART:20110801T180000Z
DTEND:20110801T190000Z
X-MICROSOFT-CDO-ALLDAYEVENT:FALSE
SUMMARY:Ribbon Cutting for Selestina's Mexican Restaurant
DESCRIPTION:Join us! Lunch will be provided.
X-ALT-DESC;FMTTYPE=text/html:<em>Join us! Lunch will be provided.</em>
LOCATION:300 Nickel St.\, Suite 21 Broomfield\, CO 80020
UID:e.641.1710
SEQUENCE:3
DTSTAMP:20260420T034646Z
URL:http://business.broomfieldchamber.com/events/details/ribbon-cutting-for-selestina-s-mexican-restaurant-08-01-2011-1710
END:VEVENT

END:VCALENDAR
