BEGIN:VCALENDAR
VERSION:2.0
PRODID:-//ChamberMaster//Event Calendar 2.0//EN
METHOD:PUBLISH
X-PUBLISHED-TTL:P3D
REFRESH-INTERVAL:P3D
CALSCALE:GREGORIAN
BEGIN:VEVENT
DTSTART:20120628T213000Z
DTEND:20120628T223000Z
X-MICROSOFT-CDO-ALLDAYEVENT:FALSE
SUMMARY:Ribbon Cutting for Send Out Cards - Janet Smith
DESCRIPTION:Whether you are a dentist\, salesperson or business owner\, there has never been an easier way to send a genuine thank you\, reminder or follow-up card. Greeting cards are a powerful business tool to help ensure your business clients and customers know just how important they are!
X-ALT-DESC;FMTTYPE=text/html:<span style="font-size: 14px"><span style="font-family: verdana">Whether you are a dentist\, salesperson or business owner\, there has never been an easier way to send a genuine thank you\, reminder or follow-up card. Greeting cards are a powerful business tool to help ensure your business clients and customers know just how important they are!</span></span>
LOCATION:Broomfield Chamber 2095 W 6th Ave Broomfield\, CO 80020
UID:e.641.3963
SEQUENCE:3
DTSTAMP:20260419T144921Z
URL:http://business.broomfieldchamber.com/events/details/ribbon-cutting-for-send-out-cards-janet-smith-06-28-2012-3963
END:VEVENT

END:VCALENDAR
