BEGIN:VCALENDAR
VERSION:2.0
PRODID:-//ChamberMaster//Event Calendar 2.0//EN
METHOD:PUBLISH
X-PUBLISHED-TTL:P3D
REFRESH-INTERVAL:P3D
CALSCALE:GREGORIAN
BEGIN:VEVENT
DTSTART:20120501T180000Z
DTEND:20120501T190000Z
X-MICROSOFT-CDO-ALLDAYEVENT:FALSE
SUMMARY:Ribbon Cutting for SERVPRO of Greater Boulder
DESCRIPTION:SERVPRO  of Greater Boulder and Broomfield/NW Adams County is a locally owned and operated company specializing in the cleanup and restoration of residential and commercial property after a fire\, smoke\, mold or water damage. Our goal is to help minimize the interruption to your life and quickly make it "Like it never even happened."\n\n\n\nLunch will be provided
X-ALT-DESC;FMTTYPE=text/html:<span style="font-size: 14px"><span style="font-family: verdana">SERVPRO&reg\; of Greater Boulder and Broomfield/NW Adams County is a locally owned and operated company specializing in the cleanup and restoration of residential and commercial property after a fire\, smoke\, mold or water damage. Our goal is to help minimize the interruption to your life and quickly make it &quot\;Like it never even happened.&quot\;</span></span><br />\n<br />\nLunch will be provided
LOCATION:SERVPRO of Greater Boulder 696 S. Pierce Avenue Louisville\, CO 80027
UID:e.641.3652
SEQUENCE:3
DTSTAMP:20260419T144654Z
URL:http://business.broomfieldchamber.com/events/details/ribbon-cutting-for-servpro-of-greater-boulder-05-01-2012-3652
END:VEVENT

END:VCALENDAR
