BEGIN:VCALENDAR
VERSION:2.0
PRODID:-//ChamberMaster//Event Calendar 2.0//EN
METHOD:PUBLISH
X-PUBLISHED-TTL:P3D
REFRESH-INTERVAL:P3D
CALSCALE:GREGORIAN
BEGIN:VEVENT
DTSTART:20120618T180000Z
DTEND:20120618T190000Z
X-MICROSOFT-CDO-ALLDAYEVENT:FALSE
SUMMARY:Ribbon Cutting for Skootdad Vending and Refreshments
DESCRIPTION:The company that prides itself on delivering a vending service to medium-sized business locations that the big brands will not service.  Utilizing the Compact Refreshment Center and bulkhead candy machines\, Skootdad Vending and Refreshments wants to be your snack service now and into the future!
X-ALT-DESC;FMTTYPE=text/html:<span style="font-size: 16px"><span style="font-family: verdana">The company that prides itself on delivering a vending service to medium-sized business locations that the big brands will not service.&nbsp\; Utilizing the Compact Refreshment Center and bulkhead candy machines\, Skootdad Vending and Refreshments wants to be your snack service now and into the future!</span></span><br />\n<br />\n
LOCATION:Broomfield Chamber 2095 W. 6th Ave Broomfield CO 80020
UID:e.641.3915
SEQUENCE:3
DTSTAMP:20260419T133030Z
URL:http://business.broomfieldchamber.com/events/details/ribbon-cutting-for-skootdad-vending-and-refreshments-06-18-2012-3915
END:VEVENT

END:VCALENDAR
