BEGIN:VCALENDAR
VERSION:2.0
PRODID:-//ChamberMaster//Event Calendar 2.0//EN
METHOD:PUBLISH
X-PUBLISHED-TTL:P3D
REFRESH-INTERVAL:P3D
CALSCALE:GREGORIAN
BEGIN:VEVENT
DTSTART:20111118T190000Z
DTEND:20111118T200000Z
X-MICROSOFT-CDO-ALLDAYEVENT:FALSE
SUMMARY:Ribbon Cutting for Smile Logic
DESCRIPTION:SmileLogic\, Inc. is celebrating it's one year anniversary with new owner\, Angie Rhoades.  SmileLogic offers affordable dental hygiene care from dental x-rays\, cleanings to whitening\, in a relaxed and comfortable environment. Dentist available on-site\, or visit us for your cleaning and see your regular dentist for continuing care! Adults and children are welcome. Insurance is accepted!
X-ALT-DESC;FMTTYPE=text/html:<span style="font-size: medium"><span style="font-family: times new roman"><span style="font-size: 14px"><span style="font-family: verdana"><em>SmileLogic\, Inc. is celebrating it&#39\;s one year anniversary with new owner\, Angie Rhoades.&nbsp\; SmileLogic offers affordable dental hygiene care from dental x-rays\, cleanings to whitening\, in a relaxed and comfortable environment.&nbsp\;Dentist available on-site\, or visit us for your cleaning and see your regular dentist for continuing care!&nbsp\;Adults and children are welcome.&nbsp\;Insurance is&nbsp\;accepted!</em></span></span>&nbsp\; </span></span><br />\n
LOCATION:403 Summit Blvd.\, #202 Broomfield\, CO 80021
UID:e.641.3092
SEQUENCE:3
DTSTAMP:20260419T235125Z
URL:http://business.broomfieldchamber.com/events/details/ribbon-cutting-for-smile-logic-11-18-2011-3092
END:VEVENT

END:VCALENDAR
