BEGIN:VCALENDAR
VERSION:2.0
PRODID:-//ChamberMaster//Event Calendar 2.0//EN
METHOD:PUBLISH
X-PUBLISHED-TTL:P3D
REFRESH-INTERVAL:P3D
CALSCALE:GREGORIAN
BEGIN:VEVENT
DTSTART:20120413T203000Z
DTEND:20120413T213000Z
X-MICROSOFT-CDO-ALLDAYEVENT:FALSE
SUMMARY:Ribbon Cutting for Sound Telecom
DESCRIPTION:Sound Telecom\, a nationwide provider of 24 hour Telephone Answering\, Call Center and Unified Communication Services recently opened its Colorado based Mountain States Region sales and operations office. The Seattle-based company\, owned by Broomfield native\, Michael LaBaw\, is implementing a bilingual telephone answering service and call center in Westminster.
X-ALT-DESC;FMTTYPE=text/html:<span style="font-family: verdana"><span style="font-size: 14px">Sound Telecom\, a nationwide provider of 24 hour Telephone Answering\, Call Center and Unified Communication Services recently opened its Colorado based Mountain States Region sales and operations office. The Seattle-based company\, owned by Broomfield native\, Michael LaBaw\, is implementing a bilingual telephone answering service and call center in Westminster.</span></span>
LOCATION:Broomfield Chamber 2095 W. 6th Avenue Broomfield\, CO 80020
UID:e.641.3635
SEQUENCE:3
DTSTAMP:20260419T162325Z
URL:http://business.broomfieldchamber.com/events/details/ribbon-cutting-for-sound-telecom-04-13-2012-3635
END:VEVENT

END:VCALENDAR
