BEGIN:VCALENDAR
VERSION:2.0
PRODID:-//ChamberMaster//Event Calendar 2.0//EN
METHOD:PUBLISH
X-PUBLISHED-TTL:P3D
REFRESH-INTERVAL:P3D
CALSCALE:GREGORIAN
BEGIN:VEVENT
DTSTART:20101026T200000Z
DTEND:20101026T210000Z
X-MICROSOFT-CDO-ALLDAYEVENT:FALSE
SUMMARY:Ribbon Cutting for Spavia
DESCRIPTION:Free Chair Massages and Gift Cards for all!
X-ALT-DESC;FMTTYPE=text/html:<span style="font-size: 16px"><strong>Free Chair Massages and Gift Cards for all!</strong></span><br />\n<br />\n
LOCATION:Orchard Town Center 14697 Delaware St. Unit 630 Westminster\, CO 80023 720.320.2466
UID:e.641.1195
SEQUENCE:3
DTSTAMP:20260420T202322Z
URL:http://business.broomfieldchamber.com/events/details/ribbon-cutting-for-spavia-10-26-2010-1195
END:VEVENT

END:VCALENDAR
