BEGIN:VCALENDAR
VERSION:2.0
PRODID:-//ChamberMaster//Event Calendar 2.0//EN
METHOD:PUBLISH
X-PUBLISHED-TTL:P3D
REFRESH-INTERVAL:P3D
CALSCALE:GREGORIAN
BEGIN:VEVENT
DTSTART:20120206T230000Z
DTEND:20120207T000000Z
X-MICROSOFT-CDO-ALLDAYEVENT:FALSE
SUMMARY:Ribbon Cutting for Speedpro Imaging of Broomfield
DESCRIPTION:Speedpro Imaging of Broomfield specializes in creating the highest quality trade show displays\, vehicle wraps\, retail/brand graphics\, banners\, event signage\, window graphics and other imaging products to provide you with the high profile edge you need in a competitive market.\n\n \n\nPlease join us for a Grand Opening Celebration that will include an evening of fun\, refreshments\, and entertainment to kick off our anti-bullying campaign which is being hosted by the Hudson-Keenesburg Lions Club\, a non-profit organization which Speedpro Imaging of Broomfield has sponsored.  Actors Eric Martinez ("Love Lies Bleeding" and ABC's\, "Scoundrels") and Quinton Aaron ("The Blind Side" and Lifetime's\, "Drop Dead Diva") will speak for the Anti-Bullying Campaign at local schools the following day.  Eric and Quinton will be available for photographs and autographs during the event.\n\n \n\nCall us today with your RSVP or to schedule a time for us to assist you in creating that "lasting first impression" that your customers will be sure to see and feel.
X-ALT-DESC;FMTTYPE=text/html:<span style="font-size:12px\;"><span style="font-family: verdana\;">Speedpro Imaging of Broomfield specializes in creating the highest quality trade show displays\, vehicle wraps\, retail/brand graphics\, banners\, event signage\, window graphics and other imaging products to provide you with the high profile edge you need in a competitive market.<br />\n&nbsp\;<br />\nPlease join us for a Grand Opening Celebration that will include an evening of fun\, refreshments\, and entertainment to kick off our anti-bullying campaign which is being hosted by the Hudson-Keenesburg Lions Club\, a non-profit organization which Speedpro Imaging of Broomfield has sponsored.&nbsp\; Actors Eric Martinez (&ldquo\;Love Lies Bleeding&rdquo\; and ABC&rsquo\;s\, &ldquo\;Scoundrels&rdquo\;) and Quinton Aaron (&ldquo\;The Blind Side&rdquo\; and Lifetime&rsquo\;s\, &ldquo\;Drop Dead Diva&rdquo\;) will speak for the Anti-Bullying Campaign at local schools the following day.&nbsp\; Eric and Quinton will be available for photographs and autographs during the event.<br />\n&nbsp\;<br />\nCall us today with your RSVP or to schedule a time for us to assist you in creating that &quot\;lasting first impression&quot\; that your customers will be sure to see and feel.</span></span>
LOCATION:10855 Dover Street Suite 800 Westminster\, CO 80021
UID:e.641.3213
SEQUENCE:3
DTSTAMP:20260419T193547Z
URL:http://business.broomfieldchamber.com/events/details/ribbon-cutting-for-speedpro-imaging-of-broomfield-02-06-2012-3213
END:VEVENT

END:VCALENDAR
