BEGIN:VCALENDAR
VERSION:2.0
PRODID:-//ChamberMaster//Event Calendar 2.0//EN
METHOD:PUBLISH
X-PUBLISHED-TTL:P3D
REFRESH-INTERVAL:P3D
CALSCALE:GREGORIAN
BEGIN:VEVENT
DTSTART:20120320T210000Z
DTEND:20120320T220000Z
X-MICROSOFT-CDO-ALLDAYEVENT:FALSE
SUMMARY:Ribbon Cutting for Springhill Suites by Marriott Denver North / Westminster
DESCRIPTION:The SpringHill Suites by Marriott Denver North/Westminster is an all-suite hotel conveniently located off the Denver-Boulder Turnpike.  In January 2012\, it completed a full renovation of the guest rooms\, meeting rooms\, and public space.  Amenities include complimentary breakfast\, complimentary high speed wireless internet\, indoor pool\, and fitness room.
X-ALT-DESC;FMTTYPE=text/html:<span style="font-size:14px\;"><span style="font-family: verdana\;">The SpringHill Suites by Marriott Denver North/Westminster is an all-suite hotel conveniently located off the Denver-Boulder Turnpike.&nbsp\; In January 2012\, it completed a full renovation of the guest rooms\, meeting rooms\, and public space.&nbsp\; Amenities include complimentary breakfast\, complimentary high speed wireless internet\, indoor pool\, and fitness room.</span></span>
LOCATION:SpringHill Suites by Marriott Denver North/Westminster 6845 W. 103rd Avenue Westminster\, CO 80021
UID:e.641.3227
SEQUENCE:3
DTSTAMP:20260419T193413Z
URL:http://business.broomfieldchamber.com/events/details/ribbon-cutting-for-springhill-suites-by-marriott-denver-north-westminster-03-20-2012-3227
END:VEVENT

END:VCALENDAR
