BEGIN:VCALENDAR
VERSION:2.0
PRODID:-//ChamberMaster//Event Calendar 2.0//EN
METHOD:PUBLISH
X-PUBLISHED-TTL:P3D
REFRESH-INTERVAL:P3D
CALSCALE:GREGORIAN
BEGIN:VEVENT
DTSTART:20111213T160000Z
DTEND:20111213T170000Z
X-MICROSOFT-CDO-ALLDAYEVENT:FALSE
SUMMARY:Ribbon Cutting for Stutz IT
DESCRIPTION:Stutz IT is a full service systems administration\, network wiring company. If it is in your office connected to your computers or printers\, and you need it for your job we service it.    Call us today and get your systems running the way they should.
X-ALT-DESC;FMTTYPE=text/html:<em><span style="font-size: 14px"><span style="color: #000000"><span style="font-family: verdana">Stutz IT is a full service systems administration\, network wiring company. If it is in your office connected to your computers or printers\, and you need it for your job we service it.&nbsp\;&nbsp\;&nbsp\; Call us today and get your systems running the way they should.</span></span></span></em><br />\n
LOCATION:Broomfield Chamber offices
UID:e.641.3108
SEQUENCE:3
DTSTAMP:20260419T222920Z
URL:http://business.broomfieldchamber.com/events/details/ribbon-cutting-for-stutz-it-12-13-2011-3108
END:VEVENT

END:VCALENDAR
