BEGIN:VCALENDAR
VERSION:2.0
PRODID:-//ChamberMaster//Event Calendar 2.0//EN
METHOD:PUBLISH
X-PUBLISHED-TTL:P3D
REFRESH-INTERVAL:P3D
CALSCALE:GREGORIAN
BEGIN:VEVENT
DTSTART:20110322T200000Z
DTEND:20110322T210000Z
X-MICROSOFT-CDO-ALLDAYEVENT:FALSE
SUMMARY:Ribbon Cutting for Sunrise of Westminster
DESCRIPTION:Ribbon Cutting for\n\nSunrise Assisted Living of Westminster\n\n\n\n10280 N. Sheridan Blvd.\n\nWestminster\, CO 80020
X-ALT-DESC;FMTTYPE=text/html:<span style="font-size: 14px"><strong>Ribbon Cutting for<br />\nSunrise Assisted Living of Westminster<br />\n<br />\n10280 N. Sheridan Blvd.<br />\nWestminster\, CO 80020</strong></span>
LOCATION:
UID:e.641.1351
SEQUENCE:3
DTSTAMP:20260420T111231Z
URL:http://business.broomfieldchamber.com/events/details/ribbon-cutting-for-sunrise-of-westminster-03-22-2011-1351
END:VEVENT

END:VCALENDAR
