BEGIN:VCALENDAR
VERSION:2.0
PRODID:-//ChamberMaster//Event Calendar 2.0//EN
METHOD:PUBLISH
X-PUBLISHED-TTL:P3D
REFRESH-INTERVAL:P3D
CALSCALE:GREGORIAN
BEGIN:VEVENT
DTSTART:20100930T220000Z
DTEND:20100930T230000Z
X-MICROSOFT-CDO-ALLDAYEVENT:FALSE
SUMMARY:Ribbon Cutting for Swim Otters
DESCRIPTION:Cake will be served!
X-ALT-DESC;FMTTYPE=text/html:Cake will be served!
LOCATION:8690 Wolff Ct.\, #200 Westminster\, CO 80031
UID:e.641.1132
SEQUENCE:3
DTSTAMP:20260420T202405Z
URL:http://business.broomfieldchamber.com/events/details/ribbon-cutting-for-swim-otters-09-30-2010-1132
END:VEVENT

END:VCALENDAR
