BEGIN:VCALENDAR
VERSION:2.0
PRODID:-//ChamberMaster//Event Calendar 2.0//EN
METHOD:PUBLISH
X-PUBLISHED-TTL:P3D
REFRESH-INTERVAL:P3D
CALSCALE:GREGORIAN
BEGIN:VEVENT
DTSTART:20100610T163000Z
DTEND:20100610T173000Z
X-MICROSOFT-CDO-ALLDAYEVENT:FALSE
SUMMARY:Ribbon Cutting for Telecom Efficient\, Inc.
DESCRIPTION:Ribbon Cutting for Telecom Efficient\, Inc.
X-ALT-DESC;FMTTYPE=text/html:<div>Ribbon Cutting for Telecom Efficient\, Inc.</div>
LOCATION:Chamber office
UID:e.641.1087
SEQUENCE:3
DTSTAMP:20260421T010129Z
URL:http://business.broomfieldchamber.com/events/details/ribbon-cutting-for-telecom-efficient-inc-06-10-2010-1087
END:VEVENT

END:VCALENDAR
