BEGIN:VCALENDAR
VERSION:2.0
PRODID:-//ChamberMaster//Event Calendar 2.0//EN
METHOD:PUBLISH
X-PUBLISHED-TTL:P3D
REFRESH-INTERVAL:P3D
CALSCALE:GREGORIAN
BEGIN:VEVENT
DTSTART:20120524T213000Z
DTEND:20120524T223000Z
X-MICROSOFT-CDO-ALLDAYEVENT:FALSE
SUMMARY:Ribbon Cutting for Ten West / 5 Star Conference Center
DESCRIPTION:Ten West at Westmoor Technology Park is a 10 building office complex strategically located in the high tech 36 corridor. An amenity rich environment helps companies attract and retain a talented workforce. Ten West houses a 10\,000 sq. ft. corporate conference center that is open to the general public.
X-ALT-DESC;FMTTYPE=text/html:<span style="font-size: 14px"><span style="font-family: verdana"><span style="color: windowtext">Ten West at Westmoor Technology Park is a 10 building office complex strategically located in the high tech 36 corridor. An amenity rich environment helps companies attract and retain a talented workforce. Ten West houses a 10\,000 sq. ft.</span><span class="white141"><span style="color: windowtext"> corporate conference center that is open to the general public.</span></span></span></span><br />\n<br />\n<br />\n
LOCATION:10155 Westmoor Drive Suite 105 Westminster\, CO 80021
UID:e.641.3919
SEQUENCE:3
DTSTAMP:20260419T144940Z
URL:http://business.broomfieldchamber.com/events/details/ribbon-cutting-for-ten-west-5-star-conference-center-05-24-2012-3919
END:VEVENT

END:VCALENDAR
